BEGIN:VCALENDAR
VERSION:2.0
PRODID:-//AudioTheme 1.8.4
BEGIN:VEVENT
UID:http://www.alvarodomene.com/?post_type=audiotheme_gig&#038;p=28393
URL:http://www.alvarodomene.com/calendar/effects-of-gravity-at-rosendale-theatre/
DTSTART;TZID=GMT:20230702T000000
SUMMARY:Rosendale Theatre, New York
DESCRIPTION:Effects of Gravity
LOCATION:Rosendale Theatre
END:VEVENT
END:VCALENDAR